Workbook

Sheet Holdsammensætning
B1: 1 | D1: 2 | F1: 3 | H1: 4 | J1: 5 | L1: 6 | N1: 7 | P1: 8 | R1: 9 | T1: 10 | V1: 11 | X1: 12 | Z1: 13 | AB1: 14 | AD1: 15 | AF1: 16 | AH1: 17 | AJ1: 18 | AL1: 19 | AN1: 20 | AP1: 21 | AR1: 22 | AT1: 23 | AV1: 24 | AX1: 25 | AZ1: 26 | BB1: 27 | BD1: 28 | BF1: 29 | BH1: 30
A2: Hold | B2: LANDSDELSHOLD | C2: 10 | D2: LANDSDELSHOLD | E2: 20 | F2: LANDSDELSHOLD | G2: 30 | H2: LANDSDELSHOLD | I2: 40 | J2: LANDSDELSHOLD | K2: 50 | L2: LANDSDELSHOLD | M2: 60 | N2: LANDSDELSHOLD | O2: 70 | P2: LANDSDELSHOLD | Q2: 80 | R2: LANDSDELSHOLD | S2: 90 | T2: LANDSDELSHOLD | U2: 100 | V2: LANDSDELSHOLD | W2: 110 | X2: LANDSDELSHOLD | Y2: 120 | Z2: LANDSDELSHOLD | AA2: 130 | AB2: LANDSDELSHOLD | AC2: 140 | AD2: LANDSDELSHOLD | AE2: 150 | AF2: LANDSDELSHOLD | AG2: 160 | AH2: LANDSDELSHOLD | AI2: 170 | AJ2: LANDSDELSHOLD | AK2: 180 | AL2: LANDSDELSHOLD | AM2: 190 | AN2: LANDSDELSHOLD | AO2: 200 | AP2: LANDSDELSHOLD | AQ2: 210 | AR2: LANDSDELSHOLD | AS2: 220 | AT2: LANDSDELSHOLD | AU2: 230 | AV2: LANDSDELSHOLD | AW2: 240 | AX2: LANDSDELSHOLD | AY2: 250 | AZ2: LANDSDELSHOLD | BA2: 260 | BB2: LANDSDELSHOLD | BC2: 270 | BD2: LANDSDELSHOLD | BE2: 280 | BF2: LANDSDELSHOLD | BG2: 290 | BH2: LANDSDELSHOLD | BI2: 300
A3: Disciplin | B3: Holdnavn | D3: DM 15m GEVÆR | F3: DM 15m GEVÆR | H3: DM 15m LUFTGEVÆR | J3: DM 15m LUFTGEVÆR | L3: DM 50 GEVÆR | N3: DM 50 GEVÆR | P3: DM 200m GEVÆR | R3: DM 200m GEVÆR | T3: DM 300m GEVÆR | V3: DM 300m GEVÆR | X3: DM 15m PISTOL | Z3: DM 15m PISTOL | AB3: DM 15m LUFTPISTOL | AD3: DM 15m LUFTPISTOL | AF3: DM 25m STD | AH3: DM 25m STD | AJ3: DM 25m FIN | AL3: DM 25m FIN | AN3: DM 25m GROV | AP3: DM 25m GROV | AR3: DM 25m GROV | AT3: DM GEVÆRTERRÆN | AV3: DM GEVÆRTERRÆN | AX3: DM PISTOLTERRÆN | AZ3: DM PISTOLTERRÆN | BB3: DM PISTOLTERRÆN | BD3: DM PISTOLTERRÆN | BF3: DM PISTOLTERRÆN | BH3: DM PISTOLTERRÆN
B4: Klassegruppe | D4: UNGDOM | F4: VOKSEN | H4: UNGDOM | J4: VOKSEN | L4: UNGDOM | N4: VOKSEN | P4: UNGDOM | R4: VOKSEN | T4: UNGDOM | V4: VOKSEN | X4: UNGDOM | Z4: VOKSEN | AB4: UNGDOM | AD4: VOKSEN | AF4: UNGDOM | AH4: VOKSEN | AJ4: UNGDOM | AL4: VOKSEN | AN4: GP 32 | AP4: GPA | AR4: GR | AT4: VOKSEN | AV4: SENIOR | AX4: JUNIOR | AZ4: VOKSEN | BB4: SENIOR | BD4: GP32 | BF4: GPA | BH4: GR
A5: Antal | B5: 0 | D5: 16+4 | F5: 16+4 | H5: 12+3 | J5: 12+3 | L5: 16+4 | N5: 16+4 | P5: 12+3 | R5: 16+4 | T5: 4+1 | V5: 8+2 | X5: 3+1 | Z5: 12+3 | AB5: 3+1 | AD5: 9+3 | AF5: 3+1 | AH5: 9+3 | AJ5: 3+1 | AL5: 9+3 | AN5: 4+1 | AP5: 4+1 | AR5: 4+1 | AT5: 10 | AV5: 4 | AX5: 3+1 | AZ5: 5+1 | BB5: 5+1 | BD5: 5+1 | BF5: 5+1 | BH5: 5+1
A6: i ALT | B6: 0 | D6: 20 | F6: 20 | H6: 15 | J6: 15 | L6: 20 | N6: 20 | P6: 15 | R6: 20 | T6: 5 | V6: 10 | X6: 4 | Z6: 15 | AB6: 4 | AD6: 12 | AF6: 4 | AH6: 12 | AJ6: 4 | AL6: 12 | AN6: 5 | AP6: 5 | AR6: 5 | AT6: 10 | AV6: 4 | AX6: 4 | AZ6: 6 | BB6: 6 | BD6: 6 | BF6: 6 | BH6: 6
A7: 1 | B7: Klasse | C7: Tællende | D7: BK-1 | E7: Tællende | F7: ST1 | G7: Tællende | H7: BK-1 | I7: Tællende | J7: ST1 | K7: Tællende | L7: BK-1 | M7: Tællende | N7: ST1 | O7: Tællende | P7: BK | Q7: Tællende | R7: ST1 | S7: Tællende | T7: BK | U7: Tællende | V7: ST1 | W7: Tællende | X7: BK | Y7: Tællende | Z7: 1H1 | AA7: Tællende | AB7: BK | AC7: Tællende | AD7: 1H1 | AE7: Tællende | AF7: BK | AG7: Tællende | AH7: 1H1 | AI7: Tællende | AJ7: BK | AK7: Tællende | AL7: 1H1 | AM7: Tællende | AN7: GP 32 | AO7: Tællende | AP7: GPA | AQ7: Tællende | AR7: GR | AS7: Tællende | AT7: ST1-2 | AU7: Tællende | AV7: SE | AW7: Tællende | AX7: JUNIOR | AY7: Tællende | AZ7: TP1-3 | BA7: Tællende | BB7: SENIOR | BC7: Tællende | BD7: GP32 | BE7: Tællende | BF7: GPA | BG7: Tællende | BH7: GR | BI7: Tællende
A8: 2 | B8: Klasse | C8: Tællende | D8: BK-1 | E8: Tællende | F8: ST2 | G8: Tællende | H8: BK-1 | I8: Tællende | J8: ST2 | K8: Tællende | L8: BK-1 | M8: Tællende | N8: ST2 | O8: Tællende | P8: BK | Q8: Tællende | R8: ST2 | S8: Tællende | T8: JUN | U8: Tællende | V8: ST2 | W8: Tællende | X8: JUN | Y8: Tællende | Z8: 1H2 | AA8: Tællende | AB8: JUN | AC8: Tællende | AD8: 1H2 | AE8: Tællende | AF8: JUN | AG8: Tællende | AH8: 1H2 | AI8: Tællende | AJ8: JUN | AK8: Tællende | AL8: 1H2 | AM8: Tællende | AN8: GP 32 | AO8: Tællende | AP8: GPA | AQ8: Tællende | AR8: GR | AS8: Tællende | AT8: ST1-2 | AU8: Tællende | AV8: SE | AW8: Tællende | AX8: JUNIOR | AY8: Tællende | AZ8: TP1-3 | BA8: Tællende | BB8: SENIOR | BC8: Tællende | BD8: GP32 | BE8: Tællende | BF8: GPA | BG8: Tællende | BH8: GR | BI8: Tællende
A9: 3 | B9: Klasse | C9: Tællende | D9: BK-2 | E9: Tællende | F9: ST3 | G9: Tællende | H9: BK-2 | I9: Tællende | J9: ST3 | K9: Tællende | L9: BK-2 | M9: Tællende | N9: ST3 | O9: Tællende | P9: BK | Q9: Tællende | R9: ST3 | S9: Tællende | T9: BK eller JUN | U9: Valgfri | V9: Å | W9: Tællende | X9: BK eller JUN | Y9: Valgfri | Z9: 1H3 | AA9: Tællende | AB9: BK eller JUN | AC9: Valgfri | AD9: 2H1 | AE9: Tællende | AF9: BK eller JUN | AG9: Valgfri | AH9: 2H1 | AI9: Tællende | AJ9: BK eller JUN | AK9: Valgfri | AL9: 2H1 | AM9: Tællende | AN9: GP 32 | AO9: Tællende | AP9: GPA | AQ9: Tællende | AR9: GR | AS9: Tællende | AT9: ST1-2 | AU9: Tællende | AV9: D | AW9: Tællende | AX9: JUNIOR | AY9: Tællende | AZ9: TP1-3 | BA9: Tællende | BB9: SENIOR | BC9: Tællende | BD9: GP32 | BE9: Tællende | BF9: GPA | BG9: Tællende | BH9: GR | BI9: Tællende
A10: 4 | B10: Klasse | C10: Tællende | D10: BK-2 | E10: Tællende | F10: Å1 | G10: Tællende | H10: BK-2 | I10: Tællende | J10: Å1 | K10: Tællende | L10: BK-2 | M10: Tællende | N10: Å1 | O10: Tællende | P10: BK | Q10: Tællende | R10: Å1 | S10: Tællende | T10: BK eller JUN | U10: Valgfri | V10: SE | W10: Tællende | X10: Alle | Y10: Brutto | Z10: 2H1 | AA10: Tællende | AB10: Alle | AC10: Brutto | AD10: 2H2 | AE10: Tællende | AF10: Alle | AG10: Brutto | AH10: 2H2 | AI10: Tællende | AJ10: Alle | AK10: Brutto | AL10: 2H2 | AM10: Tællende | AN10: GP 32 | AO10: Tællende | AP10: GPA | AQ10: Tællende | AR10: GR | AS10: Tællende | AT10: ST1-2 | AU10: Tællende | AV10: SE | AW10: Tællende | AX10: JUNIOR | AY10: Brutto | AZ10: TP1-3 | BA10: Tællende | BB10: SENIOR | BC10: Brutto | BD10: GP32 | BE10: Tællende | BF10: GPA | BG10: Tællende | BH10: GR | BI10: Tællende
A11: 5 | B11: Klasse | C11: Tællende | D11: BK-3 | E11: Tællende | F11: Å2 | G11: Tællende | H11: BK-3 | I11: Tællende | J11: Å2 | K11: Tællende | L11: BK-3 | M11: Tællende | N11: Å2 | O11: Tællende | P11: JUN | Q11: Tællende | R11: Å2 | S11: Tællende | T11: Alle | U11: Brutto | V11: ST1-2 | W11: Valgfri | Z11: 2H2 | AA11: Tællende | AD11: SE | AE11: Tællende | AH11: SE1 | AI11: Tællende | AL11: SE1 | AM11: Tællende | AN11: GP 32 | AO11: Brutto | AP11: GPA | AQ11: Brutto | AR11: GR | AS11: Brutto | AT11: ST1-2 | AU11: Tællende | AZ11: TP1-3 | BA11: Tællende | BD11: GP32 | BE11: Tællende | BF11: GPA | BG11: Tællende | BH11: GR | BI11: Tællende
A12: 6 | B12: Klasse | C12: Tællende | D12: BK-3 | E12: Tællende | F12: Å3 | G12: Tællende | H12: BK-3 | I12: Tællende | J12: SE1 | K12: Tællende | L12: BK-3 | M12: Tællende | N12: SE1 | O12: Tællende | P12: JUN | Q12: Tællende | R12: SE1 | S12: Tællende | V12: ST1-2 | W12: Valgfri | Z12: SE1 | AA12: Tællende | AD12: 1H1-2 | AE12: Valgfri | AH12: SE2 | AI12: Tællende | AL12: SE2 | AM12: Tællende | AT12: ST1-2 | AU12: Tællende | AZ12: TP1-3 | BA12: Brutto | BD12: GP32 | BE12: Brutto | BF12: GPA | BG12: Brutto | BH12: GR | BI12: Brutto
A13: 7 | B13: Klasse | C13: Tællende | D13: JUN-1 | E13: Tællende | F13: SE1 | G13: Tællende | H13: JUN-1 | I13: Tællende | J13: SE2 | K13: Tællende | L13: JUN-1 | M13: Tællende | N13: SE2 | O13: Tællende | P13: JUN | Q13: Tællende | R13: SE2 | S13: Tællende | V13: ST1-2 | W13: Valgfri | Z13: SE2 | AA13: Tællende | AD13: 1H1-2 | AE13: Valgfri | AH13: 1H1-3 | AI13: Valgfri | AL13: 1H1-3 | AM13: Valgfri | AT13: BK/JUN, Å, SE eller ST1-2 | AU13: Tællende
A14: 8 | B14: Klasse | C14: Tællende | D14: JUN-1 | E14: Tællende | F14: SE2 | G14: Tællende | H14: JUN-1 | I14: Tællende | J14: Å1-2 eller SE1-2 | K14: Valgfri | L14: JUN-1 | M14: Tællende | N14: Å1-2 eller SE1-2 | O14: Valgfri | P14: JUN | Q14: Tællende | R14: Å1-2 eller SE1-2 | S14: Valgfri | V14: Å1 eller SE1 | W14: Valgfri | Z14: 1H1-3 | AA14: Valgfri | AD14: 2H1-2 eller SE | AE14: Valgfri | AH14: 2H1-2 eller SE1-2 | AI14: Valgfri | AL14: 2H1-2 eller SE1-2 | AM14: Valgfri | AT14: BK/JUN, Å, SE eller ST1-2 | AU14: Tællende
A15: 9 | B15: Klasse | C15: Tællende | D15: JUN-2 | E15: Tællende | F15: SE3 | G15: Tællende | H15: JUN-2 | I15: Tællende | J15: Å1-2 eller SE1-2 | K15: Valgfri | L15: JUN-2 | M15: Tællende | N15: Å1-2 eller SE1-2 | O15: Valgfri | P15: BK eller JUN | Q15: Valgfri | R15: Å1-2 eller SE1-2 | S15: Valgfri | V15: Alle | W15: Brutto | Z15: 1H1-3 | AA15: Valgfri | AD15: 2H1-2 eller SE | AE15: Valgfri | AH15: 2H1-2 eller SE1-2 | AI15: Valgfri | AL15: 2H1-2 eller SE1-2 | AM15: Valgfri | AT15: BK/JUN, Å, SE eller ST1-2 | AU15: Tællende
A16: 10 | B16: Klasse | C16: Tællende | D16: JUN-2 | E16: Tællende | F16: Å1-3 eller SE1-3 | G16: Valgfri | H16: JUN-2 | I16: Tællende | J16: ST1-3 | K16: Valgfri | L16: JUN-2 | M16: Tællende | N16: Å1-2 eller SE1-2 | O16: Valgfri | P16: BK eller JUN | Q16: Valgfri | R16: Å1-2 eller SE1-2 | S16: Valgfri | V16: Alle | W16: Brutto | Z16: 2H1-2 eller SE1-2 | AA16: Valgfri | AD16: Alle | AE16: Brutto | AH16: Alle | AI16: Brutto | AL16: Alle | AM16: Brutto | AT16: BK/JUN, Å, SE eller ST1-2 | AU16: Tællende
A17: 11 | B17: Klasse | C17: Valgfri | D17: BK 1-3 | E17: Valgfri | F17: Å1-3 eller SE1-3 | G17: Valgfri | H17: BK 1-3 | I17: Valgfri | J17: ST1-3 | K17: Valgfri | L17: BK 1- 3 | M17: Valgfri | N17: Å1-2 eller SE1-2 | O17: Valgfri | P17: BK eller JUN | Q17: Valgfri | R17: Å1-2 eller SE1-2 | S17: Valgfri | Z17: 2H1-2 eller SE1-2 | AA17: Valgfri | AD17: Alle | AE17: Brutto | AH17: Alle | AI17: Brutto | AL17: Alle | AM17: Brutto
A18: 12 | B18: Klasse | C18: Valgfri | D18: BK 1-3 | E18: Valgfri | F18: Å1-3 eller SE1-3 | G18: Valgfri | H18: JUN 1-2 | I18: Valgfri | J18: ST1-3 | K18: Valgfri | L18: BK 1- 3 | M18: Valgfri | N18: ST1-3 | O18: Valgfri | P18: BK eller JUN | Q18: Valgfri | R18: ST1-3 | S18: Valgfri | Z18: 2H1-2 eller SE1-2 | AA18: Valgfri | AD18: Alle | AE18: Brutto | AH18: Alle | AI18: Brutto | AL18: Alle | AM18: Brutto
A19: 13 | B19: Klasse | C19: Valgfri | D19: BK 1-3 | E19: Valgfri | F19: ST1-3 | G19: Valgfri | H19: Alle | I19: Brutto | J19: Alle | K19: Brutto | L19: BK 1- 3 | M19: Valgfri | N19: ST1-3 | O19: Valgfri | P19: Alle | Q19: Brutto | R19: ST1-3 | S19: Valgfri | Z19: Alle | AA19: Brutto
A20: 14 | B20: Klasse | C20: Valgfri | D20: BK 1-3 | E20: Valgfri | F20: ST1-3 | G20: Valgfri | H20: Alle | I20: Brutto | J20: Alle | K20: Brutto | L20: BK 1- 3 | M20: Valgfri | N20: ST1-3 | O20: Valgfri | P20: Alle | Q20: Brutto | R20: ST1-3 | S20: Valgfri | Z20: Alle | AA20: Brutto
A21: 15 | B21: Klasse | C21: Valgfri | D21: JUN 1-2 | E21: Valgfri | F21: ST1-3 | G21: Valgfri | H21: Alle | I21: Brutto | J21: Alle | K21: Brutto | L21: JUN1-2 | M21: Valgfri | N21: ST1-3 | O21: Valgfri | P21: Alle | Q21: Brutto | R21: ST1-3 | S21: Valgfri | Z21: Alle | AA21: Brutto
A22: 16 | B22: Klasse | C22: Valgfri | D22: JUN 1-2 | E22: Valgfri | F22: ST1-3 | G22: Valgfri | L22: JUN1-2 | M22: Valgfri | N22: ST1-3 | O22: Valgfri | R22: ST1-3 | S22: Valgfri
A23: 17 | B23: Klasse | C23: Brutto | D23: Alle | E23: Brutto | F23: Alle | G23: Brutto | L23: Alle | M23: Brutto | N23: Alle | O23: Brutto | R23: Alle | S23: Brutto
A24: 18 | B24: Klasse | C24: Brutto | D24: Alle | E24: Brutto | F24: Alle | G24: Brutto | L24: Alle | M24: Brutto | N24: Alle | O24: Brutto | R24: Alle | S24: Brutto
A25: 19 | B25: Klasse | C25: Brutto | D25: Alle | E25: Brutto | F25: Alle | G25: Brutto | L25: Alle | M25: Brutto | N25: Alle | O25: Brutto | R25: Alle | S25: Brutto
A26: 20 | B26: Klasse | C26: Brutto | D26: Alle | E26: Brutto | F26: Alle | G26: Brutto | L26: Alle | M26: Brutto | N26: Alle | O26: Brutto | R26: Alle | S26: Brutto
A29: 15 | D29: Cellekæde
A30: =A29*10 -> 150 | D30: Cellekæde * 10
AH32: ½
A33: Antal | D33: 15m G | H33: 15m LG | L33: 50m | P33: 200m | T33: 300m | X33: 15m P | AB33: 15m LP | AF33: 25m STD | AJ33: 25m Fin | AT33: Gevær T | AZ33: Pistol T
A35: 1 | D35: BK 1 | H35: BK 1 | L35: BK 1 | P35: BK | T35: BK | X35: BK | AB35: BK | AF35: BK | AJ35: BK | AT35: BK/JUN | AZ35: JUN
A36: 2 | D36: BK 2 | H36: BK 2 | L36: BK 2 | P36: JUN | T36: JUN | X36: JUN | AB36: JUN | AF36: JUN | AJ36: JUN | AT36: ST1 | AZ36: TP1
A37: 3 | D37: BK 3 | H37: BK 3 | L37: BK 3 | P37: ST1 | T37: ST1 | X37: 1H1 | AB37: 1H1 | AF37: 1H1 | AJ37: 1H1 | AT37: ST2 | AZ37: TP2
A38: 4 | D38: BK 4 | H38: J 1 | L38: J 1 | P38: ST2 | T38: ST2 | X38: 1H2 | AB38: 1H2 | AF38: 1H2 | AJ38: 1H2 | AT38: Å | AZ38: TP3
A39: 5 | D39: J 1 | H39: J 2 | L39: J 2 | P39: ST3 | T39: Å1 | X39: 1H3 | AB39: 2H1 | AF39: 2H1 | AJ39: 2H1 | AT39: SE | AZ39: SEN
A40: 6 | D40: J 2 | H40: ST1 | L40: ST1 | P40: Å1 | T40: SE1 | X40: 2H1 | AB40: 2H2 | AF40: 2H2 | AJ40: 2H2
A41: 7 | D41: ST1 | H41: ST2 | L41: ST2 | P41: Å2 | X41: 2H2 | AB41: SE | AF41: SE1 | AJ41: SE1
A42: 8 | D42: ST2 | H42: ST3 | L42: ST3 | P42: SE1 | X42: SE1 | AF42: SE2 | AJ42: SE2
A43: 9 | D43: ST3 | H43: Å1 | L43: Å1 | P43: SE2 | X43: SE2
A44: 10 | D44: Å1 | H44: Å2 | L44: Å2
...

Sheet Holdnavne
A1: 1 | B1: Vælg Landsdelshold
A2: 2 | B2: DM 15m GEVÆR UNGDOM
A3: 3 | B3: DM 15m GEVÆR VOKSEN
A4: 4 | B4: DM 15m LUFTGEVÆR UNGDOM
A5: 5 | B5: DM 15m LUFTGEVÆR VOKSEN
A6: 6 | B6: DM 50 GEVÆR UNGDOM
A7: 7 | B7: DM 50 GEVÆR VOKSEN
A8: 8 | B8: DM 200m GEVÆR UNGDOM
A9: 9 | B9: DM 200m GEVÆR VOKSEN
A10: 10 | B10: DM 300m GEVÆR UNGDOM
A11: 11 | B11: DM 300m GEVÆR VOKSEN
A12: 12 | B12: DM 15m PISTOL UNGDOM
... A30: 30 | B30: DM PISTOLTERRÆN GR
A31: 31

Sheet Amter
A1: 1 | B1: Vælg Landsdel
A2: 2 | B2: 1 DGI Nordjylland
A3: 3 | B3: 5 DGI Vestjylland
A4: 4 | B4: 6 DGI Midtjylland
A5: 5 | B5: 9 DGI Østjylland
A6: 6 | B6: 10 DGI Sydøstjylland
A7: 7 | B7: 11 DGI Sydvest
A8: 8 | B8: 13 DGI Sønderjylland
A9: 9 | B9: 16 DGI Fyn
A10: 10 | B10: 17 DGI Midt- & Vestsjælland
A11: 11 | B11: 18 DGI Nordsjælland
A12: 12 | B12: 21 DGI StorKøbenhavn
... A16: 6 | B16: Cellekæde

Sheet Holdkort
A1: =HLOOKUP(Holdsammensætning!$A$29,Holdsammensætning!$B$1:$AL$26,2) -> LANDSDELSHOLD | D1: =VLOOKUP(Amter!A16,Amter!A1:B14,2) -> 10 DGI Sydøstjylland
A2: =HLOOKUP(Holdsammensætning!$A$29,Holdsammensætning!$B$1:$BH$26,3) -> DM 15m LUFTPISTOL
A3: =HLOOKUP(Holdsammensætning!$A$29,Holdsammensætning!$B$1:$BH$26,4) -> VOKSEN
A4: Antal skytter: | C4: =HLOOKUP(Holdsammensætning!$A$29,Holdsammensætning!$B$1:$BJ$26,5) -> 9+3
A5: I alt: | C5: =HLOOKUP(Holdsammensætning!$A$29,Holdsammensætning!$B$1:$BJ$26,6) -> 12
A6: På hold | B6: Klasser | C6: Skyttenr. | D6: Navn | E6: Forening | F6: Klasse
A7: =HLOOKUP(Holdsammensætning!$A$30,Holdsammensætning!$B$2:$BK$26,6) -> Tællende | B7: =HLOOKUP(Holdsammensætning!$A$29,Holdsammensætning!$B$1:$BJ$26,7) -> 1H1 | C7: 34981 | D7: Jonas Kofoed Hnasen | E7: Vejle | F7: 1H1
A8: =HLOOKUP(Holdsammensætning!$A$30,Holdsammensætning!$B$2:$BK$26,7) -> Tællende | B8: =HLOOKUP(Holdsammensætning!$A$29,Holdsammensætning!$B$1:$BJ$26,8) -> 1H2 | C8: 123694 | D8: Jens Peder Jørgensen | E8: Horsens | F8: 1H2
A9: =HLOOKUP(Holdsammensætning!$A$30,Holdsammensætning!$B$2:$BK$26,8) -> Tællende | B9: =HLOOKUP(Holdsammensætning!$A$29,Holdsammensætning!$B$1:$BJ$26,9) -> 2H1 | C9: 20666 | D9: Jesper Larsen | E9: Ølsted | F9: 2H1
A10: =HLOOKUP(Holdsammensætning!$A$30,Holdsammensætning!$B$2:$BK$26,9) -> Tællende | B10: =HLOOKUP(Holdsammensætning!$A$29,Holdsammensætning!$B$1:$BJ$26,10) -> 2H2 | C10: 118404 | D10: Allan Daugard | E10: Vejle | F10: 2H2
A11: =HLOOKUP(Holdsammensætning!$A$30,Holdsammensætning!$B$2:$BK$26,10) -> Tællende | B11: =HLOOKUP(Holdsammensætning!$A$29,Holdsammensætning!$B$1:$BJ$26,11) -> SE | C11: 34728 | D11: Kim Watz | E11: Klejs | F11: SE
A12: =HLOOKUP(Holdsammensætning!$A$30,Holdsammensætning!$B$2:$BK$26,11) -> Valgfri | B12: =HLOOKUP(Holdsammensætning!$A$29,Holdsammensætning!$B$1:$BJ$26,12) -> 1H1-2 | C12: 35029 | D12: Gert Nielsen | E12: Vejle | F12: 1H1
A13: =HLOOKUP(Holdsammensætning!$A$30,Holdsammensætning!$B$2:$BK$26,12) -> Valgfri | B13: =HLOOKUP(Holdsammensætning!$A$29,Holdsammensætning!$B$1:$BJ$26,13) -> 1H1-2 | C13: 116148 | D13: Kenneth Mortensen | E13: Vejle | F13: 1H1
A14: =HLOOKUP(Holdsammensætning!$A$30,Holdsammensætning!$B$2:$BK$26,13) -> Valgfri | B14: =HLOOKUP(Holdsammensætning!$A$29,Holdsammensætning!$B$1:$BJ$26,14) -> 2H1-2 eller SE | C14: 150181 | D14: Torben Christensen | E14: Klejs | F14: 2H1
A15: =HLOOKUP(Holdsammensætning!$A$30,Holdsammensætning!$B$2:$BK$26,14) -> Valgfri | B15: =HLOOKUP(Holdsammensætning!$A$29,Holdsammensætning!$B$1:$BJ$26,15) -> 2H1-2 eller SE | C15: 42046 | D15: Arnold Christensen | E15: BPI | F15: 2H1
A16: =HLOOKUP(Holdsammensætning!$A$30,Holdsammensætning!$B$2:$BK$26,15) -> Brutto | B16: =HLOOKUP(Holdsammensætning!$A$29,Holdsammensætning!$B$1:$BJ$26,16) -> Alle | C16: 34696 | D16: Hans Jørgen Nielsen | E16: Klejs | F16: 2H1
A17: =HLOOKUP(Holdsammensætning!$A$30,Holdsammensætning!$B$2:$BK$26,16) -> Brutto | B17: =HLOOKUP(Holdsammensætning!$A$29,Holdsammensætning!$B$1:$BJ$26,17) -> Alle | C17: 96343 | D17: Niels Bank Simonsen | E17: Klejs | F17: 1H2
A18: =HLOOKUP(Holdsammensætning!$A$30,Holdsammensætning!$B$2:$BK$26,17) -> Brutto | B18: =HLOOKUP(Holdsammensætning!$A$29,Holdsammensætning!$B$1:$BJ$26,18) -> Alle | C18: 121613 | D18: Carsten Jensen | E18: Vejle | F18: 2H1
A19: =HLOOKUP(Holdsammensætning!$A$30,Holdsammensætning!$B$2:$BK$26,18) -> 0 | B19: =HLOOKUP(Holdsammensætning!$A$29,Holdsammensætning!$B$1:$BJ$26,19) -> 0
A20: =HLOOKUP(Holdsammensætning!$A$30,Holdsammensætning!$B$2:$BK$26,19) -> 0 | B20: =HLOOKUP(Holdsammensætning!$A$29,Holdsammensætning!$B$1:$BJ$26,20) -> 0
A21: =HLOOKUP(Holdsammensætning!$A$30,Holdsammensætning!$B$2:$BK$26,20) -> 0 | B21: =HLOOKUP(Holdsammensætning!$A$29,Holdsammensætning!$B$1:$BJ$26,21) -> 0
A22: =HLOOKUP(Holdsammensætning!$A$30,Holdsammensætning!$B$2:$BK$26,21) -> 0 | B22: =HLOOKUP(Holdsammensætning!$A$29,Holdsammensætning!$B$1:$BJ$26,22) -> 0
A23: =HLOOKUP(Holdsammensætning!$A$30,Holdsammensætning!$B$2:$BK$26,22) -> 0 | B23: =HLOOKUP(Holdsammensætning!$A$29,Holdsammensætning!$B$1:$BJ$26,23) -> 0
A24: =HLOOKUP(Holdsammensætning!$A$30,Holdsammensætning!$B$2:$BK$26,23) -> 0 | B24: =HLOOKUP(Holdsammensætning!$A$29,Holdsammensætning!$B$1:$BJ$26,24) -> 0
A25: =HLOOKUP(Holdsammensætning!$A$30,Holdsammensætning!$B$2:$BK$26,24) -> 0 | B25: =HLOOKUP(Holdsammensætning!$A$29,Holdsammensætning!$B$1:$BJ$26,25) -> 0
A26: =HLOOKUP(Holdsammensætning!$A$30,Holdsammensætning!$B$2:$BK$26,25) -> 0 | B26: =HLOOKUP(Holdsammensætning!$A$29,Holdsammensætning!$B$1:$BJ$26,26) -> 0
A28: Det er muligt for landsdelshold at fylde holdet op med en skytte fra en lavere klasse i klassegruppen.
A29: F.eks. hvis en landsdel ikke har en skytte tilmeldt fra klasse 1, kan denne erstattes med en skytte fra klasse 2 eller 3
A31: Ansvarlig holdleder som kan kontaktes under DM | D31: NAVN:______Kim Watz ___________________________________________________ | E31: Telefon: _______________ | F31: 21854458
