Workbook

Sheet Resultatliste
A1: DGI Nordsjælland Skydning
A2: Frederiksværksgade 16
A3: Tlf. 79 40 47 00
A8: 43248
A16: RESULTATLISTE
A17: FREDERIKSBORG TURNERINGEN 200 METER
A18: 2018
A19: 1.+2.+3. RUNDE
A22: Med venlig hilsen
A23: Kortdistanceudvalget
A25: Gruppe C (Stillinger) | H25: I alt
B26: 1. omgang | D26: 2. omgang | F26: 3. omgang | H26: Point | I26: X-tiere
A27: ='C200m'!A12 -> Blovstrød 1 | B27: ='C200m'!D17 -> 409 | C27: ='C200m'!E17 -> 13 | D27: ='C200m'!F17 -> 548 | E27: ='C200m'!G17 -> 11 | F27: ='C200m'!H17 -> 276 | G27: ='C200m'!I17 -> 10 | H27: =B27+D27+F27 -> 1233 | I27: =C27+E27+G27 -> 34 | J27: 2
A28: ='C200m'!A4 -> Frederikssund | B28: ='C200m'!D9 -> 422 | C28: ='C200m'!E9 -> 14 | D28: ='C200m'!F9 -> 551 | E28: ='C200m'!G9 -> 17 | F28: ='C200m'!H9 -> 548 | G28: ='C200m'!I9 -> 12 | H28: =B28+D28+F28 -> 1521 | I28: =C28+E28+G28 -> 43 | J28: 1
A29: ='C200m'!A22 -> 0 | B29: ='C200m'!D26 -> 0 | C29: ='C200m'!E26 -> 0 | D29: ='C200m'!F26 -> 0 | E29: ='C200m'!G26 -> 0 | F29: ='C200m'!H26 -> 0 | G29: ='C200m'!I26 -> 0 | H29: =B29+D29+F29 -> 0 | I29: =C29+E29+G29 -> 0
A30: ='C200m'!A29 -> 0 | B30: ='C200m'!D33 -> 0 | C30: ='C200m'!E33 -> 0 | D30: ='C200m'!F33 -> 0 | E30: ='C200m'!G33 -> 0 | F30: ='C200m'!H33 -> 0 | G30: ='C200m'!I33 -> 0 | H30: =B30+D30+F30 -> 0 | I30: =C30+E30+G30 -> 0
A33: Gruppe D (Åben) | H33: I alt
B34: 1. omgang | D34: 2. omgang | F34: 3. omgang | H34: Point | I34: X-tiere
A35: ='C200m'!A12 -> Blovstrød 1 | B35: =D200m!D9 -> 577 | C35: =D200m!E9 -> 18 | D35: =D200m!F9 -> 583 | E35: =D200m!G9 -> 17 | F35: =D200m!H9 -> 583 | G35: =D200m!I9 -> 22 | H35: =B35+D35+F35 -> 1743 | I35: =C35+E35+G35 -> 57 | J35: 1
A36: =D200m!A20 -> Helsinge | B36: =D200m!D24 -> 568 | C36: =D200m!E24 -> 12 | D36: =D200m!F24 -> 572 | E36: =D200m!G24 -> 20 | F36: =D200m!H24 -> 577 | G36: =D200m!I24 -> 21 | H36: =B36+D36+F36 -> 1717 | I36: =C36+E36+G36 -> 53 | J36: 2
A37: =D200m!A12 -> Hillerød | B37: =D200m!D17 -> 545 | C37: =D200m!E17 -> 11 | D37: =D200m!F17 -> 558 | E37: =D200m!G17 -> 18 | F37: =D200m!H17 -> 550 | G37: =D200m!I17 -> 15 | H37: =B37+D37+F37 -> 1653 | I37: =C37+E37+G37 -> 44 | J37: 3
A38: =D200m!#REF! -> #REF! | B38: =D200m!#REF! -> #REF! | C38: =D200m!#REF! -> #REF! | D38: =D200m!#REF! -> #REF! | E38: =D200m!#REF! -> #REF! | F38: =D200m!#REF! -> #REF! | G38: =D200m!#REF! -> #REF! | H38: =B38+D38+F38 -> #REF! | I38: =C38+E38+G38 -> #REF!
A41: Gruppe E (Senior) | H41: I alt
B42: 1. omgang | D42: 2. omgang | F42: 3. omgang | H42: Point | I42: X-tiere
A43: =E200m!A4 -> Frederikssund 1 | B43: =E200m!D9 -> 575 | C43: =E200m!E9 -> 15 | D43: =E200m!F9 -> 569 | E43: =E200m!G9 -> 13 | F43: =E200m!H9 -> 579 | G43: =E200m!I9 -> 24 | H43: =B43+D43+F43 -> 1723 | I43: =C43+E43+G43 -> 52 | J43: 1
A44: =E200m!A13 -> c3 | B44: =E200m!D18 -> 0 | C44: =E200m!E18 -> 0 | D44: =E200m!F18 -> 0 | E44: =E200m!G18 -> 0 | F44: =E200m!H18 -> 0 | G44: =E200m!I18 -> 0 | H44: =B44+D44+F44 -> 0 | I44: =C44+E44+G44 -> 0
A45: =E200m!A22 -> c4 | B45: =E200m!D27 -> 0 | C45: =E200m!E27 -> 0 | D45: =E200m!F27 -> 0 | E45: =E200m!G27 -> 0 | F45: =E200m!H27 -> 0 | G45: =E200m!I27 -> 0 | H45: =B45+D45+F45 -> 0 | I45: =C45+E45+G45 -> 0
A46: =E200m!A31 -> c5 | B46: =E200m!D36 -> 0 | C46: =E200m!E36 -> 0 | D46: =E200m!F36 -> 0 | E46: =E200m!G36 -> 0 | F46: =E200m!H36 -> 0 | G46: =E200m!I36 -> 0 | H46: =B46+D46+F46 -> 0 | I46: =C46+E46+G46 -> 0
A50: Gruppe MIX | H50: I alt
B51: 1. omgang | D51: 2. omgang | F51: 3. omgang | H51: Point | I51: X-tiere
A52: =M200m!A4 -> Frederiksværk | B52: =M200m!D9 -> 407 | C52: =M200m!E9 -> 6 | D52: =M200m!F9 -> 422 | E52: =M200m!G9 -> 5 | F52: =M200m!H9 -> 422 | G52: =M200m!I9 -> 12 | H52: =B52+D52+F52 -> 1251 | I52: =C52+E52+G52 -> 23 | J52: 1

Sheet M200m
A1: Gruppe MIX
A3: Forening: | B3: Sk-nr. | C3: Navn | D3: 1. omg. | F3: 2. omg. | H3: 3. omg.
A4: Frederiksværk | B4: 102052 | C4: Kjeld Frederiksen | D4: 140 | E4: 3 | F4: 144 | G4: 3 | H4: 144 | I4: 4
B5: 93044 | C5: Bjarne Nielsen | D5: 136 | E5: 2 | F5: 145 | G5: 1 | H5: 146 | I5: 6
B6: 64257 | C6: Niels Østergaard | D6: 131 | E6: 1 | F6: 133 | G6: 1 | H6: 132 | I6: 2
A9: I alt | D9: =SUM(D4:D8) -> 407 | E9: =SUM(E4:E8) -> 6 | F9: =SUM(F4:F8) -> 422 | G9: =SUM(G4:G8) -> 5 | H9: =SUM(H4:H8) -> 422 | I9: =SUM(I4:I8) -> 12

Sheet C200m
A1: Gruppe C
A3: Forening: | B3: Sk-nr. | C3: Navn | D3: 1. omg. | F3: 2. omg. | H3: 3. omg.
A4: Frederikssund | B4: 62329 | C4: Jan Larsen | D4: 143 | E4: 4 | F4: 148 | G4: 7 | H4: 142 | I4: 4
B5: 62432 | C5: Bjarne Sørensen | D5: 143 | E5: 7 | F5: 148 | G5: 7 | H5: 142 | I5: 5
B6: 62454 | C6: Allan Asmussen | D6: 136 | E6: 3 | F6: 131 | G6: 2 | H6: 133 | I6: 1
B7: 60633 | C7: Claus Nielsen | D7: 0 | E7: 0 | F7: 124 | G7: 1 | H7: 131 | I7: 2
A9: I alt | D9: =SUM(D4:D8) -> 422 | E9: =SUM(E4:E8) -> 14 | F9: =SUM(F4:F7) -> 551 | G9: =SUM(G4:G7) -> 17 | H9: =SUM(H4:H7) -> 548 | I9: =SUM(I4:I7) -> 12
A11: Forening: | B11: Sk-nr. | C11: Navn | D11: 1. omg. | F11: 2. omg. | H11: 3. omg.
A12: Blovstrød 1 | B12: 128348 | C12: Linas Zvirblis | F12: 130 | G12: 0
B13: 57413 | C13: Morten Larsen | D13: 136 | E13: 3 | F13: 143 | G13: 4 | H13: 144 | I13: 6
B14: 64413 | C14: Michael F. Hansen | D14: 145 | E14: 6 | F14: 136 | G14: 2
B15: 115847 | C15: Søren Møller | D15: 128 | E15: 4 | F15: 139 | G15: 5 | H15: 132 | I15: 4
A17: I alt | D17: =SUM(D12:D16) -> 409 | E17: =SUM(E12:E16) -> 13 | F17: =SUM(F12:F16) -> 548 | G17: =SUM(G12:G16) -> 11 | H17: =SUM(H12:H16) -> 276 | I17: =SUM(I12:I16) -> 10
A21: Forening: | B21: Sk-nr. | C21: Navn | D21: 1. omg. | F21: 2. omg. | H21: 3. omg.
A26: I alt | D26: =SUM(D22:D25) -> 0 | E26: =SUM(E22:E25) -> 0 | F26: =SUM(F22:F25) -> 0 | G26: =SUM(G22:G25) -> 0 | H26: =SUM(H22:H25) -> 0 | I26: =SUM(I22:I25) -> 0
A28: Forening: | B28: Sk-nr. | C28: Navn | D28: 1. omg. | F28: 2. omg. | H28: 3. omg.
A33: I alt | D33: =SUM(D29:D32) -> 0 | E33: =SUM(E29:E32) -> 0 | F33: =SUM(F29:F32) -> 0 | G33: =SUM(G29:G32) -> 0 | H33: =SUM(H29:H32) -> 0 | I33: =SUM(I29:I32) -> 0

Sheet D200m
A1: Gruppe D
A3: Forening: | B3: Sk-nr. | C3: Navn | D3: 1. omg. | F3: 2. omg. | H3: 3. omg.
A4: Blovstrød | B4: 111899 | C4: Thomas Høvelskov | D4: 142 | E4: 6 | F4: 149 | G4: 5 | H4: 149 | I4: 8
B5: 112325 | C5: Dorthe Vanggaard | D5: 146 | E5: 4 | F5: 147 | G5: 4 | H5: 144 | I5: 5
B6: 116328 | C6: Benedicte Bodilsen | D6: 146 | E6: 3 | F6: 141 | G6: 5 | H6: 141 | I6: 4
B7: 98211 | C7: Andreas Posniak | D7: 143 | E7: 5 | F7: 146 | G7: 3 | H7: 149 | I7: 5
A9: I alt | D9: =SUM(D4:D8) -> 577 | E9: =SUM(E4:E8) -> 18 | F9: =SUM(F4:F8) -> 583 | G9: =SUM(G4:G8) -> 17 | H9: =SUM(H4:H8) -> 583 | I9: =SUM(I4:I8) -> 22
A11: Forening: | B11: Sk-nr. | C11: Navn | D11: 1. omg. | F11: 2. omg. | H11: 3. omg.
A12: Hillerød | B12: 64535 | C12: Charlotte Hansen | D12: 144 | E12: 4 | F12: 148 | G12: 7 | H12: 150 | I12: 9
B13: 85340 | C13: Morten Stockfeldt | D13: 141 | E13: 2 | F13: 140 | G13: 5 | H13: 143 | I13: 3
B14: 63572 | C14: Karin Bay | D14: 125 | E14: 0 | F14: 131 | G14: 3 | H14: 128 | I14: 2
B15: 104846 | C15: Dorte Dyregaard | H15: 129 | I15: 1
B16: 91811 | C16: Jørgen Eskildsen | D16: 135 | E16: 5 | F16: 139 | G16: 3
A17: I alt | D17: =SUM(D12:D16) -> 545 | E17: =SUM(E12:E16) -> 11 | F17: =SUM(F12:F16) -> 558 | G17: =SUM(G12:G16) -> 18 | H17: =SUM(H12:H16) -> 550 | I17: =SUM(I12:I16) -> 15
A19: Forening: | B19: Sk-nr. | C19: Navn | D19: 1. omg. | F19: 2. omg. | H19: 3. omg.
A20: Helsinge | B20: 104699 | C20: Henning Pries | D20: 139 | E20: 3 | F20: 149 | G20: 9 | H20: 143 | I20: 5
B21: 104700 | C21: Nicklas Pries | D21: 140 | E21: 1 | F21: 140 | G21: 6 | H21: 147 | I21: 9
B22: 65179 | C22: Bjørn Nielsen | D22: 142 | E22: 2 | F22: 140 | G22: 4 | H22: 144 | I22: 4
B23: 71763 | C23: Viggo Jørgensen | D23: 147 | E23: 6 | F23: 143 | G23: 1 | H23: 143 | I23: 3
A24: I alt | D24: =SUM(D20:D23) -> 568 | E24: =SUM(E20:E23) -> 12 | F24: =SUM(F20:F23) -> 572 | G24: =SUM(G20:G23) -> 20 | H24: =SUM(H20:H23) -> 577 | I24: =SUM(I20:I23) -> 21

Sheet E200m
A1: Gruppe E
A3: Forening: | B3: Sk-nr. | C3: Navn | D3: 1. omg. | F3: 2. omg. | H3: 3. omg.
A4: Frederikssund 1 | B4: 62500 | C4: Ole Olsen | D4: 143 | E4: 2 | F4: 136 | G4: 2 | H4: 144 | I4: 3
B5: 61327 | C5: Poul Brandt | D5: 149 | E5: 9 | F5: 145 | G5: 2 | H5: 148 | I5: 10
B6: 61802 | C6: Peder Pilgaard | D6: 147 | E6: 4 | F6: 144 | G6: 5 | H6: 143 | I6: 5
B7: 62514 | C7: Michael Larsen | D7: 136 | E7: 0 | F7: 144 | G7: 4 | H7: 144 | I7: 6
A9: I alt | D9: =SUM(D4:D8) -> 575 | E9: =SUM(E4:E8) -> 15 | F9: =SUM(F4:F8) -> 569 | G9: =SUM(G4:G8) -> 13 | H9: =SUM(H4:H8) -> 579 | I9: =SUM(I4:I8) -> 24
A12: Forening: | B12: Sk-nr. | C12: Navn | D12: 1. omg. | F12: 2. omg. | H12: 3. omg.
A13: c3
A18: I alt | D18: =SUM(D13:D17) -> 0 | E18: =SUM(E13:E17) -> 0 | F18: =SUM(F13:F17) -> 0 | G18: =SUM(G13:G17) -> 0 | H18: =SUM(H13:H17) -> 0 | I18: =SUM(I13:I17) -> 0
A21: Forening: | B21: Sk-nr. | C21: Navn | D21: 1. omg. | F21: 2. omg. | H21: 3. omg.
A22: c4
A27: I alt | D27: =SUM(D22:D26) -> 0 | E27: =SUM(E22:E26) -> 0 | F27: =SUM(F22:F26) -> 0 | G27: =SUM(G22:G26) -> 0 | H27: =SUM(H22:H26) -> 0 | I27: =SUM(I22:I26) -> 0
A30: Forening: | B30: Sk-nr. | C30: Navn | D30: 1. omg. | F30: 2. omg. | H30: 3. omg.
A31: c5
A36: I alt | D36: =SUM(D31:D35) -> 0 | E36: =SUM(E31:E35) -> 0 | F36: =SUM(F31:F35) -> 0 | G36: =SUM(G31:G35) -> 0 | H36: =SUM(H31:H35) -> 0 | I36: =SUM(I31:I35) -> 0

Sheet E2
A1: Gruppe E | C1: 2. Division
A3: Forening: | B3: Sk-nr. | C3: Navn | D3: 1. omg. | F3: 2. omg. | H3: 3. omg.
A8: I alt | D8: =SUM(D4:D7) -> 0 | E8: =SUM(E4:E7) -> 0 | F8: =SUM(F4:F7) -> 0 | G8: =SUM(G4:G7) -> 0 | H8: =SUM(H4:H7) -> 0 | I8: =SUM(I4:I7) -> 0
A9: Match point
A11: Forening: | B11: Sk-nr. | C11: Navn | D11: 1. omg. | F11: 2. omg. | H11: 3. omg.
A17: I alt | D17: =SUM(D12:D16) -> 0 | E17: =SUM(E12:E16) -> 0 | F17: =SUM(F12:F16) -> 0 | G17: =SUM(G12:G16) -> 0 | H17: =SUM(H12:H16) -> 0 | I17: =SUM(I12:I16) -> 0
A18: Match point
A20: Forening: | B20: Sk-nr. | C20: Navn | D20: 1. omg. | F20: 2. omg. | H20: 3. omg.
A27: I alt | D27: =SUM(D21:D26) -> 0 | E27: =SUM(E21:E26) -> 0 | F27: =SUM(F21:F26) -> 0 | G27: =SUM(G21:G26) -> 0 | H27: =SUM(H21:H26) -> 0 | I27: =SUM(I21:I26) -> 0
A28: Match point
A30: Forening: | B30: Sk-nr. | C30: Navn | D30: 1. omg. | F30: 2. omg. | H30: 3. omg.
A35: I alt | D35: =SUM(D31:D34) -> 0 | E35: =SUM(E31:E34) -> 0 | F35: =SUM(F31:F34) -> 0 | G35: =SUM(G31:G34) -> 0 | H35: =SUM(H31:H34) -> 0 | I35: =SUM(I31:I34) -> 0
A36: Match point
A38: Forening: | B38: Sk-nr. | C38: Navn | D38: 1. omg. | F38: 2. omg. | H38: 3. omg.
A43: I alt | D43: =SUM(D39:D42) -> 0 | E43: =SUM(E39:E42) -> 0 | F43: =SUM(F39:F42) -> 0 | G43: =SUM(G39:G42) -> 0 | H43: =SUM(H39:H42) -> 0 | I43: =SUM(I39:I42) -> 0
A44: Match point
